BEGIN:VCALENDAR
VERSION:2.0
PRODID:-//hacksw/handcal//NONSGML v1.0//EN
BEGIN:VEVENT
SUMMARY:concours Ufolep en doublette Arfeuille
UID:c86acb67-b43d-47ef-83c6-4852df4395ab
DTSTART:20260412T121500Z
DTEND:20260412T220000Z
LOCATION:Localisation   
CATEGORIES:Sportif
STATUS:
URL;VALUE=URI:https://www.petanque-arfeuille.fr/evenements/2026/04/12/concours-ufolep-en-doublette-arfeuille-2404578
END:VEVENT
END:VCALENDAR
